Workbook

Sheet Đề nghị chi
A1: SỔ ĐỀ NGHỊ CHI
A2: Mỗi dòng một đề nghị. Ô màu vàng là ô cần điền. OwlWise · owlwise.dev
A4: Mã đề nghị | B4: Ngày đề nghị | C4: Người đề nghị | D4: Bộ phận | E4: Nội dung | F4: Số tiền (VNĐ) | G4: Người nhận | H4: Ngân hàng | I4: Số tài khoản | J4: Hạn thanh toán | K4: Khoản ngân sách | L4: Chứng từ | M4: Người duyệt (theo hạn mức) | N4: Trạng thái | O4: Ngày chi
A5: DC-001 | M5: =IF(F5="","",IF(F5<'Hạn mức'!$B$5,'Hạn mức'!$C$4,IF(F5<='Hạn mức'!$B$6,'Hạn mức'!$C$5,'Hạn mức'!$C$6))) | N5: Chờ duyệt
A6: DC-002 | M6: =IF(F6="","",IF(F6<'Hạn mức'!$B$5,'Hạn mức'!$C$4,IF(F6<='Hạn mức'!$B$6,'Hạn mức'!$C$5,'Hạn mức'!$C$6))) | N6: Chờ duyệt
A7: DC-003 | M7: =IF(F7="","",IF(F7<'Hạn mức'!$B$5,'Hạn mức'!$C$4,IF(F7<='Hạn mức'!$B$6,'Hạn mức'!$C$5,'Hạn mức'!$C$6))) | N7: Chờ duyệt
A8: DC-004 | M8: =IF(F8="","",IF(F8<'Hạn mức'!$B$5,'Hạn mức'!$C$4,IF(F8<='Hạn mức'!$B$6,'Hạn mức'!$C$5,'Hạn mức'!$C$6))) | N8: Chờ duyệt
A9: DC-005 | M9: =IF(F9="","",IF(F9<'Hạn mức'!$B$5,'Hạn mức'!$C$4,IF(F9<='Hạn mức'!$B$6,'Hạn mức'!$C$5,'Hạn mức'!$C$6))) | N9: Chờ duyệt
A10: DC-006 | M10: =IF(F10="","",IF(F10<'Hạn mức'!$B$5,'Hạn mức'!$C$4,IF(F10<='Hạn mức'!$B$6,'Hạn mức'!$C$5,'Hạn mức'!$C$6))) | N10: Chờ duyệt
A11: DC-007 | M11: =IF(F11="","",IF(F11<'Hạn mức'!$B$5,'Hạn mức'!$C$4,IF(F11<='Hạn mức'!$B$6,'Hạn mức'!$C$5,'Hạn mức'!$C$6))) | N11: Chờ duyệt
A12: DC-008 | M12: =IF(F12="","",IF(F12<'Hạn mức'!$B$5,'Hạn mức'!$C$4,IF(F12<='Hạn mức'!$B$6,'Hạn mức'!$C$5,'Hạn mức'!$C$6))) | N12: Chờ duyệt
A13: DC-009 | M13: =IF(F13="","",IF(F13<'Hạn mức'!$B$5,'Hạn mức'!$C$4,IF(F13<='Hạn mức'!$B$6,'Hạn mức'!$C$5,'Hạn mức'!$C$6))) | N13: Chờ duyệt
A14: DC-010 | M14: =IF(F14="","",IF(F14<'Hạn mức'!$B$5,'Hạn mức'!$C$4,IF(F14<='Hạn mức'!$B$6,'Hạn mức'!$C$5,'Hạn mức'!$C$6))) | N14: Chờ duyệt
A15: DC-011 | M15: =IF(F15="","",IF(F15<'Hạn mức'!$B$5,'Hạn mức'!$C$4,IF(F15<='Hạn mức'!$B$6,'Hạn mức'!$C$5,'Hạn mức'!$C$6))) | N15: Chờ duyệt
A16: DC-012 | M16: =IF(F16="","",IF(F16<'Hạn mức'!$B$5,'Hạn mức'!$C$4,IF(F16<='Hạn mức'!$B$6,'Hạn mức'!$C$5,'Hạn mức'!$C$6))) | N16: Chờ duyệt
... A104: DC-100 | M104: =IF(F104="","",IF(F104<'Hạn mức'!$B$5,'Hạn mức'!$C$4,IF(F104<='Hạn mức'!$B$6,'Hạn mức'!$C$5,'Hạn mức'!$C$6))) | N104: Chờ duyệt

Sheet Hạn mức
A1: HẠN MỨC DUYỆT
A2: Ví dụ cho công ty khoảng 30 người. Sửa số tiền và người duyệt theo công ty mình.
A3: Mức | B3: Từ (VNĐ) | C3: Người duyệt
A4: Dưới mức 2 | B4: 0 | C4: Trưởng bộ phận
A5: Mức 2 | B5: 5000000 | C5: Giám đốc
A6: Trên | B6: 50000000 | C6: Giám đốc, có ý kiến kế toán
A8: Khoản ngoài ngân sách luôn lên mức cao nhất, bất kể số tiền.

Sheet Đợt chi
A1: ĐỢT CHI HẰNG TUẦN
A2: Lọc sổ đề nghị chi: Trạng thái = Đã duyệt và Hạn thanh toán trong 7 ngày tới, rồi dán vào đây.
A4: Mã đề nghị | B4: Nội dung | C4: Người nhận | D4: Số tiền (VNĐ) | E4: Hạn thanh toán | F4: Chi đợt này?
A35: Tổng đợt | D35: =SUMIF(F5:F34,"Có",D5:D34)
